BEGIN:VCALENDAR
VERSION:2.0
PRODID:-//wp-events-plugin.com//6.6.3//EN
BEGIN:VEVENT
UID:16@freunde-rgk.de
DTSTART;TZID=Europe/Berlin:20241017T181500
DTEND;TZID=Europe/Berlin:20241017T194500
DTSTAMP:20241016T163740Z
URL:https://freunde-rgk.de/events/dr-martin-gruenewald-mobil-und-migrantis
 ch-die-roemer-im-nordwesten-ihres-reiches/
SUMMARY:Dr. Martin Grünewald\, Mobil und migrantisch: Die Römer im Nordwe
 sten ihres Reiches
DESCRIPTION:Im Anschluss an die jährliche Mitgliederversammlung spricht Dr
 . Martin Grünewald\, neuer Leiter des Referats für Prospektions- und Gra
 bungsmethodik. Hier gelangen Sie zur Veranstaltung
CATEGORIES:Öffentlich
LOCATION:Bersu-Saal\, Römisch-Germanische-Kommission\, Palmengartenstr. 12
 -14\, Frankfurt\, Deutschland
X-APPLE-STRUCTURED-LOCATION;VALUE=URI;X-ADDRESS=Palmengartenstr. 12-14\, Fr
 ankfurt\, Deutschland;X-APPLE-RADIUS=100;X-TITLE=Bersu-Saal\, Römisch-Ger
 manische-Kommission:geo:0,0
END:VEVENT
BEGIN:VTIMEZONE
TZID:Europe/Berlin
X-LIC-LOCATION:Europe/Berlin
BEGIN:DAYLIGHT
DTSTART:20240331T030000
TZOFFSETFROM:+0100
TZOFFSETTO:+0200
TZNAME:CEST
END:DAYLIGHT
END:VTIMEZONE
END:VCALENDAR